BEGIN:VCALENDAR
VERSION:2.0
PRODID:-//IlluminAge WordPress Calendar Plugin//
CALSCALE:GREGORIAN
METHOD:PUBLISH
X-WR-CALNAME:Connecticut Association of Health Care Facilities
X-WR-CALDESC:
X-FROM-URL:https://www.cahcf.org
BEGIN:VEVENT
URL:https://www.cahcf.org/best-practices-session-1/
UID:https://www.cahcf.org/best-practices-session-1/
DTSTAMP:20260424T095112Z
DTSTART: 20260114T140000Z
DTEND: 20260114T170000Z
SUMMARY:CAHCF/CCAL MEMBERS ONLY - Best Practices - Session 1
CONTACT:Adriana Manning
LOCATION:Virtual - , 
END:VEVENT
END:VCALENDAR