BEGIN:VCALENDAR
VERSION:2.0
PRODID:-//IlluminAge WordPress Calendar Plugin//
CALSCALE:GREGORIAN
METHOD:PUBLISH
X-WR-CALNAME:Connecticut Association of Health Care Facilities
X-WR-CALDESC:
X-FROM-URL:https://www.cahcf.org
BEGIN:VEVENT
URL:https://www.cahcf.org/cahcf-ccal-board-of-directors-meeting-2/
UID:https://www.cahcf.org/cahcf-ccal-board-of-directors-meeting-2/
DTSTAMP:20260424T130428Z
DTSTART: 20251211T140000Z
DTEND: 20251211T153000Z
SUMMARY:CAHCF/CCAL - General Membership Meeting followed by Board of Directors Meeting
CONTACT:Adriana Manning
LOCATION:Virtual General Membership Meeting - , 
END:VEVENT
END:VCALENDAR