BEGIN:VCALENDAR
VERSION:2.0
PRODID:-//IlluminAge WordPress Calendar Plugin//
CALSCALE:GREGORIAN
METHOD:PUBLISH
X-WR-CALNAME:Connecticut Association of Health Care Facilities
X-WR-CALDESC:
X-FROM-URL:https://www.cahcf.org
BEGIN:VEVENT
URL:https://www.cahcf.org/cahcf-ccal-best-practices-session-1/
UID:https://www.cahcf.org/cahcf-ccal-best-practices-session-1/
DTSTAMP:20260423T114643Z
DTSTART: 20221118T140000Z
DTEND: 20221118T170000Z
SUMMARY:CAHCF/CCAL - Best Practices - Session 2
CONTACT:Adriana Manning
LOCATION:Virtual - , 
END:VEVENT
END:VCALENDAR