BEGIN:VCALENDAR
VERSION:2.0
PRODID:-//IlluminAge WordPress Calendar Plugin//
CALSCALE:GREGORIAN
METHOD:PUBLISH
X-WR-CALNAME:Connecticut Association of Health Care Facilities
X-WR-CALDESC:
X-FROM-URL:https://www.cahcf.org
BEGIN:VEVENT
URL:https://www.cahcf.org/cahcf-ccal-june-general-membership-meeting/
UID:https://www.cahcf.org/cahcf-ccal-june-general-membership-meeting/
DTSTAMP:20260423T230402Z
DTSTART: 20230622T130000Z
DTEND: 20230622T150000Z
SUMMARY:CAHCF/CCAL June General Membership Meeting
CONTACT:Adriana Manning
LOCATION:CAHCF/CCAL Office Building - 213 Court Street, Middletown CT 06457
END:VEVENT
END:VCALENDAR