BEGIN:VCALENDAR
VERSION:2.0
PRODID:-//IlluminAge WordPress Calendar Plugin//
CALSCALE:GREGORIAN
METHOD:PUBLISH
X-WR-CALNAME:Connecticut Association of Health Care Facilities
X-WR-CALDESC:
X-FROM-URL:https://www.cahcf.org
BEGIN:VEVENT
URL:https://www.cahcf.org/ct-achca-update-from-state-ct-department-of-public-health/
UID:https://www.cahcf.org/ct-achca-update-from-state-ct-department-of-public-health/
DTSTAMP:20260422T181528Z
DTSTART: 20260115T220000Z
DTEND: 20260116T010000Z
SUMMARY:CT ACHCA - Collegiality and Networking at Kinsmen
CONTACT:Katie Pearse
LOCATION:Kinsmen Brewing - 409 Canal Street, Milldale, CT  06467
END:VEVENT
END:VCALENDAR