BEGIN:VCALENDAR
VERSION:2.0
PRODID:-//IlluminAge WordPress Calendar Plugin//
CALSCALE:GREGORIAN
METHOD:PUBLISH
X-WR-CALNAME:Connecticut Association of Health Care Facilities
X-WR-CALDESC:
X-FROM-URL:https://www.cahcf.org
BEGIN:VEVENT
URL:https://www.cahcf.org/ct-achca-annual-update-from-state-ct-department-of-public-health/
UID:https://www.cahcf.org/ct-achca-annual-update-from-state-ct-department-of-public-health/
DTSTAMP:20260422T164729Z
DTSTART: 20260220T130000Z
DTEND: 20260220T190000Z
SUMMARY:CT ACHCA - Annual Update from State CT Department of Public Health
CONTACT:Katie Pearse
LOCATION:Aqua Turf - , 
END:VEVENT
END:VCALENDAR