BEGIN:VCALENDAR
VERSION:2.0
PRODID:-//IlluminAge WordPress Calendar Plugin//
CALSCALE:GREGORIAN
METHOD:PUBLISH
X-WR-CALNAME:Connecticut Association of Health Care Facilities
X-WR-CALDESC:
X-FROM-URL:https://www.cahcf.org
BEGIN:VEVENT
URL:https://www.cahcf.org/zimmet-conference-a-business-affiliate-member-of-cahcf-ccal-reimbursement-rozetta-stone/
UID:https://www.cahcf.org/zimmet-conference-a-business-affiliate-member-of-cahcf-ccal-reimbursement-rozetta-stone/
DTSTAMP:20260424T205722Z
DTSTART: 20250812T040000Z
DTEND: 20250815T035959Z
SUMMARY:Zimmet Healthcare (a Business Affiliate Member of CAHCF/CCAL) - Conference - Reimbursement RoZetta Stone!
CONTACT:
LOCATION:Mohegan Sun - , Uncasville, CT
END:VEVENT
END:VCALENDAR