BEGIN:VCALENDAR
VERSION:2.0
PRODID:-//IlluminAge WordPress Calendar Plugin//
CALSCALE:GREGORIAN
METHOD:PUBLISH
X-WR-CALNAME:Connecticut Association of Health Care Facilities
X-WR-CALDESC:
X-FROM-URL:https://www.cahcf.org
BEGIN:VEVENT
URL:https://www.cahcf.org/15239-2/
UID:https://www.cahcf.org/15239-2/
DTSTAMP:20260424T065325Z
DTSTART: 20251029T150000Z
DTEND: 20251029T160000Z
SUMMARY:Connecticut Nurse Licensure Compact - CAHCF/CCAL Member Only Event
CONTACT:Adriana Manning
LOCATION:Virtual - 213 Court Street, Suite 202, 
END:VEVENT
END:VCALENDAR