BEGIN:VCALENDAR
VERSION:2.0
PRODID:-//IlluminAge WordPress Calendar Plugin//
CALSCALE:GREGORIAN
METHOD:PUBLISH
X-WR-CALNAME:Connecticut Association of Health Care Facilities
X-WR-CALDESC:
X-FROM-URL:https://www.cahcf.org
BEGIN:VEVENT
URL:https://www.cahcf.org/achca-2026-convention-expo/
UID:https://www.cahcf.org/achca-2026-convention-expo/
DTSTAMP:20260422T044047Z
DTSTART: 20260420T040000Z
DTEND: 20260424T035959Z
SUMMARY:ACHCA - 2026 Convention &amp; Expo
CONTACT:
LOCATION:Renaissance Orlando at SeaWorld - 6677 Sea Harbor Drive, Orlando, FL  32821
END:VEVENT
END:VCALENDAR