BEGIN:VCALENDAR
VERSION:2.0
PRODID:-//IlluminAge WordPress Calendar Plugin//
CALSCALE:GREGORIAN
METHOD:PUBLISH
X-WR-CALNAME:Connecticut Association of Health Care Facilities
X-WR-CALDESC:
X-FROM-URL:https://www.cahcf.org
BEGIN:VEVENT
URL:https://www.cahcf.org/ct-achca-legacy-golf-tournament-2025-2/
UID:https://www.cahcf.org/ct-achca-legacy-golf-tournament-2025-2/
DTSTAMP:20260424T172415Z
DTSTART: 20250905T133000Z
DTEND: 20250906T035959Z
SUMMARY:CT ACHCA - Legacy Golf Tournament 2025
CONTACT:
LOCATION:Keney Park Golf Course - , Hartford, CT
END:VEVENT
END:VCALENDAR