BEGIN:VCALENDAR
VERSION:2.0
PRODID:-//IlluminAge WordPress Calendar Plugin//
CALSCALE:GREGORIAN
METHOD:PUBLISH
X-WR-CALNAME:Connecticut Association of Health Care Facilities
X-WR-CALDESC:
X-FROM-URL:https://www.cahcf.org
BEGIN:VEVENT
URL:https://www.cahcf.org/leadingage-connecticut-connecticut-association-of-health-care-facilities-connecticut-center-for-assisted-living-and-connecticut-association-for-healthcare-at-home-improving-hospice-use-in-connec/
UID:https://www.cahcf.org/leadingage-connecticut-connecticut-association-of-health-care-facilities-connecticut-center-for-assisted-living-and-connecticut-association-for-healthcare-at-home-improving-hospice-use-in-connec/
DTSTAMP:20260422T182213Z
DTSTART: 20260109T180000Z
DTEND: 20260109T190000Z
SUMMARY:LeadingAge Connecticut; Connecticut Association of Health Care Facilities / Connecticut Center for Assisted Living; and Connecticut Association for Healthcare At Home - Improving Hospice Use in Connecticut Nursing Homes
CONTACT:Adriana Manning
LOCATION:Virtual - , 
END:VEVENT
END:VCALENDAR