BEGIN:VCALENDAR
VERSION:2.0
PRODID:-//IlluminAge WordPress Calendar Plugin//
CALSCALE:GREGORIAN
METHOD:PUBLISH
X-WR-CALNAME:Connecticut Association of Health Care Facilities
X-WR-CALDESC:
X-FROM-URL:https://www.cahcf.org
BEGIN:VEVENT
URL:https://www.cahcf.org/new-england-alliance-in-conjunction-with-district-one-of-achca-fall-new-england-regional-conference-and-meeting/
UID:https://www.cahcf.org/new-england-alliance-in-conjunction-with-district-one-of-achca-fall-new-england-regional-conference-and-meeting/
DTSTAMP:20260422T182316Z
DTSTART: 20260114T230000Z
DTEND: 20260116T170000Z
SUMMARY:New England Alliance in conjunction with District One of ACHCA - Winter New England Regional Conference and Annual Meeting
CONTACT:
LOCATION:The Woodstock Inn - 14 The Green, Woodstock, VT 05091
END:VEVENT
END:VCALENDAR